BEGIN:VCALENDAR
VERSION:2.0
PRODID:icalendar-ruby
CALSCALE:GREGORIAN
METHOD:PUBLISH
BEGIN:VEVENT
DTSTAMP:20260424T155517Z
UID:5ff89ee0-9381-410c-8135-361c51b3cd3a
DTSTART:20260213T180000
DTEND:20260214T020000
DESCRIPTION:<p>After an overwhelming response\, DISCO DOM will now be landi
 ng in JOHANNESBURG & CAPE TOWN this Valentine's Day 🪩 💕</p><p>For th
 e very first time Paradisco will be heading to Johannesburg for our Love S
 ensation Edition alongside the one and only Dombresky - DISCO DOM - who wi
 ll be bringing the heat (and stealing hearts). </p><p>Two cities. One wee
 kend made for lovers.</p><p>Friday\, 13 February - Katy's Palace\, Johanne
 sburg</p><p>Saturday\, 14 February - Grand Africa Café & Beach\, Cape Tow
 n</p><p><strong>SET TIMES:</strong></p><p><span>18h00 John Lyra </span></
 p><p><span>19h30 Indigo </span></p><p><span>21h00 The Disco Pirates </sp
 an></p><p><span>22h00 Roz </span></p><p><strong>23h00 Disco Dom</strong><
 /p><p><span>01h00 Abby Nurock </span></p><p>Tickets & tables on sale now 
 at paradisco.howler.co.za</p><p><span style="color: rgb(0\, 0\, 0)\;">Tick
 ets & tables on sale now at</span><a href="http://paradisco.howler.co.za/"
  target="_blank" style="color: rgb(0\, 0\, 0)\;"> </a><a href="http://par
 adisco.howler.co.za/" target="_blank" style="color: rgb(255\, 128\, 208)\;
 ">paradisco.howler.co.za</a><span style="color: rgb(255\, 128\, 208)\;"> 
 </span></p><p><span style="color: rgb(0\, 0\, 0)\;">Tables & VIP Booking R
 equests: </span><a href="mailto:tables@anythinggoes.co.za?subject=14%20Fe
 b%2C%20PARADISCO%20-%20Table%20Booking%20Request" target="_blank" style="c
 olor: rgb(255\, 128\, 208)\;">tables@anythinggoes.co.za</a></p><p><span st
 yle="color: rgb(0\, 0\, 0)\;">Follow us on Instagram at </span><a href="h
 ttps://www.instagram.com/paradiscoparty_/" target="_blank" style="color: r
 gb(255\, 128\, 208)\;">@paradiscoparty_</a></p><p><span style="color: rgb(
 0\, 0\, 0)\;">From Disco To House & Everything In Between ✨</span></p><p
 ><span style="color: rgb(0\, 0\, 0)\;">#Paradisco</span></p><p><strong><em
 >﻿✈️ Luxury Adventure Club – Our Official Accommodation & Experien
 ce Partner. </em></strong><em>Stay in style and enjoy curated experiences
  near our event.</em><a href="https://luxuryadventureclub.com/connect-with
 -us/#makeBooking" target="_blank" style="color: rgb(118\, 79\, 219)\;"><em
 > Enquire now</em></a><em>!</em></p><p><br></p><p><br></p><iframe class="
 ql-video" frameborder="0" allowfullscreen="true" src="https://open.spotify
 .com/embed/track/4mpyalWKRgGgghWqr0DGRr?utm_source=generator"></iframe><p>
 <br></p>
LOCATION:6 Desmond Street\, Kramerville\, Sandton\, Johannesburg\, Gauteng\
 , 2090
SUMMARY:Paradisco - Love Sensation - Johannesburg - 13 February 2026
URL;VALUE=URI:https://paradisco.howler.co.za/13feb26
END:VEVENT
END:VCALENDAR
